BEGIN:VCALENDAR
VERSION:2.0
PRODID:-//wp-events-plugin.com//7.2.3.1//EN
BEGIN:VEVENT
UID:30@qbuildsoftware.com
DTSTART;TZID=America/Toronto:20251008T140000
DTEND;TZID=America/Toronto:20251008T150000
DTSTAMP:20250910T193751Z
URL:https://www.qbuildsoftware.com/events/seamlessly-connect-cad-pdm-plm-a
 nd-infor-cloudsuite-industrial-csi-erp/
SUMMARY:CADLink: Seamlessly Connect CAD/PDM/PLM with Infor CloudSuite Indus
 trial
DESCRIPTION:We're excited to announce that we've partnered with Guide Techn
 ologies to host a special webinar and we'd like to extend a warm invitatio
 n for you to join us!\n\nTired of manually inputting BOM data into Infor 
 CloudSuite Industrial? Frustrated with costly production errors and incons
 istencies caused by manual data entry? Experiencing shipping delays due to
  lengthy BOM processes?\n\nDiscover a smarter way to streamline your CAD a
 nd ERP data through CADLink! Join us for an insightful webinar where we'll
  be discussing how CADLink revolutionizes your engineering workflow and pr
 ocesses. Learn how CADLink can benefit your business and take your operati
 ons to the next level!\n\nCADLink will help you:\n- Eliminate manual cleri
 cal work to free up engineering resources\n- Increase your Item and BOM ac
 curacy - Speed up the BOM entry process\n- Reduce scrap\, shop floor confu
 sion\, and late shipments
ATTACH;FMTTYPE=image/jpeg:https://www.qbuildsoftware.com/wp-content/upload
 s/infor-csi-webinar.png
CATEGORIES:Webinar
LOCATION:https://register.gotowebinar.com/register/2465598100585009758
END:VEVENT
BEGIN:VTIMEZONE
TZID:America/Toronto
X-LIC-LOCATION:America/Toronto
BEGIN:DAYLIGHT
DTSTART:20250309T030000
TZOFFSETFROM:-0500
TZOFFSETTO:-0400
TZNAME:EDT
END:DAYLIGHT
END:VTIMEZONE
END:VCALENDAR