BEGIN:VCALENDAR
VERSION:2.0
PRODID:-//wp-events-plugin.com//7.2.3.1//EN
BEGIN:VEVENT
UID:35@qbuildsoftware.com
DTSTART:20260513T153000Z
DTEND:20260513T160000Z
DTSTAMP:20260416T185502Z
URL:https://www.qbuildsoftware.com/events/from-cad-to-dynamics-365-automat
 ing-engineering-data-with-cadlink/
SUMMARY:From CAD to Dynamics 365: Automating Engineering Data with CADLink
DESCRIPTION:In this session\, learn how CADLink seamlessly connects your C
 AD system with Microsoft Dynamics 365 to eliminate manual BOM entry\, redu
 ce errors\, and improve engineering efficiency. Discover how manufacturers
  streamline workflows\, enhance cross-department collaboration\, and accel
 erate time to production through automated CAD-to-ERP integration.
ATTACH;FMTTYPE=image/jpeg:https://www.qbuildsoftware.com/wp-content/upload
 s/dynamicscon-2026.png
CATEGORIES:Trade Show
LOCATION:Fontainebleau Las Vegas\, 2777 S. Las Vegas Blvd\, Las Vegas\, Nev
 ada\, 89109\, United States
X-APPLE-STRUCTURED-LOCATION;VALUE=URI;X-ADDRESS=2777 S. Las Vegas Blvd\, La
 s Vegas\, Nevada\, 89109\, United States;X-APPLE-RADIUS=100;X-TITLE=Fontai
 nebleau Las Vegas:geo:0,0
END:VEVENT
END:VCALENDAR