BEGIN:VCALENDAR
VERSION:2.0
PRODID:-//wp-events-plugin.com//7.2.3.1//EN
BEGIN:VEVENT
UID:28@qbuildsoftware.com
DTSTART;TZID=America/Toronto:20250826T110000
DTEND;TZID=America/Toronto:20250826T120000
DTSTAMP:20250818T124004Z
URL:https://www.qbuildsoftware.com/events/cistech-tuesday-education-series
 -introduction-to-cadlink-for-xa/
SUMMARY:CISTECH Tuesday Education Series - Introduction to CADLink for XA
DESCRIPTION:QBuild's CADLink\, connects your CAD\, PDM\, or PLM system dire
 ctly to Infor XA. Engineers can automatically create\, modify\, and view I
 tems\, BOMs\, and routings—all without ever having to leave their design
  environment.  If your team is manually entering engineering data into XA
  or struggling with data accuracy and design processes — we’ll show yo
 u how to automate it.\n\nAbout QBuild: QBuild is the industry leader in in
 tegrating Engineering software to ERP. For decades\, QBuild has provided c
 ustomer-centric service to over 2\,000 manufacturers connecting CAD\, PDM\
 , PLM\, and Nesting software to ERP. QBuild is a one-stop shop for Item an
 d BOM synchronization and management\, engineering change process controls
 \, and automatic nesting data integration.
ATTACH;FMTTYPE=image/jpeg:https://www.qbuildsoftware.com/wp-content/upload
 s/infor-xa-webinar.png
CATEGORIES:Webinar
LOCATION:https://events.teams.microsoft.com/event/2d3e27c6-3767-4afb-b4d1-8
 edfb73bb542@ba42cc53-b3e7-4669-b772-54e7fd331078
END:VEVENT
BEGIN:VTIMEZONE
TZID:America/Toronto
X-LIC-LOCATION:America/Toronto
BEGIN:DAYLIGHT
DTSTART:20250309T030000
TZOFFSETFROM:-0500
TZOFFSETTO:-0400
TZNAME:EDT
END:DAYLIGHT
END:VTIMEZONE
END:VCALENDAR